Workbook

Sheet แยกอำเภอ
A1: ความครอบคลุมรายงาน 506 จำแนกรายอำเภอ จังหวัดศรีสะเกษ
A2: มกราคม ถึง 15 มกราคม ๒๕๖5
A5: ที่ | B5: อำเภอ | C5: มกราคม ถึง ปัจจุบัน ๒๕๖๕ | F5: มกราคม ๒๕๖๕
C6: ส่งไม่ทันเวลา | D6: ส่งทันเวลา | E6: ทันเวลาร้อยละ | F6: ส่งไม่ทันเวลา | G6: ส่งทันเวลา | H6: ทันเวลาร้อยละ
A7: 1 | B7: เมือง | C7: =SUM(Qreportintime!C3:C25) -> 9 | D7: =SUM(Qreportintime!D3:D25) -> 31 | E7: =(D7*100)/(D7+C7) -> 77.5 | F7: =SUM(Qreportintime!F3:F25) -> 9 | G7: =SUM(Qreportintime!G3:G25) -> 31 | H7: =(G7*100)/(G7+F7) -> 77.5
A8: 2 | B8: ยางชุมน้อย | C8: =SUM(Qreportintime!C26:C32) -> 0 | D8: =SUM(Qreportintime!D26:D32) -> 79 | E8: =(D8*100)/(D8+C8) -> 100 | F8: =SUM(Qreportintime!F26:F32) -> 0 | G8: =SUM(Qreportintime!G26:G32) -> 79 | H8: =(G8*100)/(G8+F8) -> 100
A9: 3 | B9: กันทรารมย์ | C9: =SUM(Qreportintime!C33:C50) -> 32 | D9: =SUM(Qreportintime!D33:D50) -> 63 | E9: =(D9*100)/(D9+C9) -> 66.315789 | F9: =SUM(Qreportintime!F33:F50) -> 32 | G9: =SUM(Qreportintime!G33:G50) -> 63 | H9: =(G9*100)/(G9+F9) -> 66.315789
A10: 4 | B10: กันทรลักษ์ | C10: =SUM(Qreportintime!C51:C87) -> 0 | D10: =SUM(Qreportintime!D51:D87) -> 71 | E10: =(D10*100)/(D10+C10) -> 100 | F10: =SUM(Qreportintime!F51:F87) -> 0 | G10: =SUM(Qreportintime!G51:G87) -> 71 | H10: =(G10*100)/(G10+F10) -> 100
A11: 5 | B11: ขุขันธ์ | C11: =SUM(Qreportintime!C88:C115) -> 4 | D11: =SUM(Qreportintime!D88:D115) -> 123 | E11: =(D11*100)/(D11+C11) -> 96.850394 | F11: =SUM(Qreportintime!F88:F115) -> 4 | G11: =SUM(Qreportintime!G88:G115) -> 123 | H11: =(G11*100)/(G11+F11) -> 96.850394
A12: 6 | B12: ไพรบึง | C12: =SUM(Qreportintime!C116:C123) -> 3 | D12: =SUM(Qreportintime!D116:D123) -> 58 | E12: =(D12*100)/(D12+C12) -> 95.081967 | F12: =SUM(Qreportintime!F116:F123) -> 3 | G12: =SUM(Qreportintime!G116:G123) -> 58 | H12: =(G12*100)/(G12+F12) -> 95.081967
A13: 7 | B13: ปรางค์กู่ | C13: =SUM(Qreportintime!C124:C137) -> 8 | D13: =[1]Qreportintime!D146 -> 2874 | E13: =(D13*100)/(D13+C13) -> 99.722415 | F13: =SUM(Qreportintime!F124:F137) -> 8 | G13: =[1]Qreportintime!G146 -> 491 | H13: =(G13*100)/(G13+F13) -> 98.396794
A14: 8 | B14: ขุนหาญ | C14: =SUM(Qreportintime!C138:C158) -> 98 | D14: =SUM(Qreportintime!D138:D158) -> 206 | E14: =(D14*100)/(D14+C14) -> 67.763158 | F14: =SUM(Qreportintime!F138:F158) -> 98 | G14: =SUM(Qreportintime!G138:G158) -> 206 | H14: =(G14*100)/(G14+F14) -> 67.763158
A15: 9 | B15: ราษีไศล | C15: =SUM(Qreportintime!C159:C173) -> 9 | D15: =SUM(Qreportintime!D159:D173) -> 93 | E15: =(D15*100)/(D15+C15) -> 91.176471 | F15: =SUM(Qreportintime!F159:F173) -> 9 | G15: =SUM(Qreportintime!G159:G173) -> 93 | H15: =(G15*100)/(G15+F15) -> 91.176471
A16: 10 | B16: อุทุมพรฯ | C16: =SUM(Qreportintime!C174:C195) -> 26 | D16: =SUM(Qreportintime!D174:D195) -> 56 | E16: =(D16*100)/(D16+C16) -> 68.292683 | F16: =SUM(Qreportintime!F174:F195) -> 26 | G16: =SUM(Qreportintime!G174:G195) -> 56 | H16: =(G16*100)/(G16+F16) -> 68.292683
A17: 11 | B17: บึงบูรพ์ | C17: =SUM(Qreportintime!C196:C198) -> 1 | D17: =SUM(Qreportintime!D196:D198) -> 26 | E17: =(D17*100)/(D17+C17) -> 96.296296 | F17: =SUM(Qreportintime!F196:F198) -> 1 | G17: =SUM(Qreportintime!G196:G198) -> 26 | H17: =(G17*100)/(G17+F17) -> 96.296296
A18: 12 | B18: ห้วยทับทัน | C18: =SUM(Qreportintime!C199:C207) -> 0 | D18: =SUM(Qreportintime!D199:D207) -> 11 | E18: =(D18*100)/(D18+C18) -> 100 | F18: =SUM(Qreportintime!F199:F207) -> 0 | G18: =SUM(Qreportintime!G199:G207) -> 11 | H18: =(G18*100)/(G18+F18) -> 100
A19: 13 | B19: โนนคูณ | C19: =SUM(Qreportintime!C208:C216) -> 0 | D19: =SUM(Qreportintime!D208:D216) -> 128 | E19: =(D19*100)/(D19+C19) -> 100 | F19: =SUM(Qreportintime!F208:F216) -> 0 | G19: =SUM(Qreportintime!G208:G216) -> 128 | H19: =(G19*100)/(G19+F19) -> 100
A20: 14 | B20: ศรีรัตนะ | C20: =SUM(Qreportintime!C217:C225) -> 0 | D20: =SUM(Qreportintime!D217:D225) -> 25 | E20: =(D20*100)/(D20+C20) -> 100 | F20: =SUM(Qreportintime!F217:F225) -> 0 | G20: =SUM(Qreportintime!G217:G225) -> 25 | H20: =(G20*100)/(G20+F20) -> 100
A21: 15 | B21: น้ำเกลี้ยง | C21: =SUM(Qreportintime!C226:C233) -> 9 | D21: =SUM(Qreportintime!D226:D233) -> 118 | E21: =(D21*100)/(D21+C21) -> 92.913386 | F21: =SUM(Qreportintime!F226:F233) -> 9 | G21: =SUM(Qreportintime!G226:G233) -> 118 | H21: =(G21*100)/(G21+F21) -> 92.913386
A22: 16 | B22: วังหิน | C22: =SUM(Qreportintime!C234:C242) -> 0 | D22: =SUM(Qreportintime!D234:D242) -> 81 | E22: =(D22*100)/(D22+C22) -> 100 | F22: =SUM(Qreportintime!F234:F242) -> 0 | G22: =SUM(Qreportintime!G234:G242) -> 81 | H22: =(G22*100)/(G22+F22) -> 100
A23: 17 | B23: ภูสิงห์ | C23: =SUM(Qreportintime!C243:C253) -> 1 | D23: =SUM(Qreportintime!D243:D253) -> 74 | E23: =(D23*100)/(D23+C23) -> 98.666667 | F23: =SUM(Qreportintime!F243:F253) -> 1 | G23: =SUM(Qreportintime!G243:G253) -> 74 | H23: =(G23*100)/(G23+F23) -> 98.666667
A24: 18 | B24: เมืองจันทร์ | C24: =SUM(Qreportintime!C254:C258) -> 1 | D24: =SUM(Qreportintime!D254:D258) -> 5 | E24: =(D24*100)/(D24+C24) -> 83.333333 | F24: =SUM(Qreportintime!F254:F258) -> 1 | G24: =SUM(Qreportintime!G254:G258) -> 5 | H24: =(G24*100)/(G24+F24) -> 83.333333
A25: 19 | B25: เบญจลักษ์ | C25: =SUM(Qreportintime!C259:C266) -> 25 | D25: =SUM(Qreportintime!D259:D266) -> 50 | E25: =(D25*100)/(D25+C25) -> 66.666667 | F25: =SUM(Qreportintime!F259:F266) -> 25 | G25: =SUM(Qreportintime!G259:G266) -> 50 | H25: =(G25*100)/(G25+F25) -> 66.666667
A26: 20 | B26: พยุห์ | C26: =SUM(Qreportintime!C267:C273) -> 0 | D26: =SUM(Qreportintime!D274:D282) -> 15 | E26: =(D26*100)/(D26+C26) -> 100 | F26: =SUM(Qreportintime!F267:F273) -> 0 | G26: =SUM(Qreportintime!G274:G282) -> 15 | H26: =(G26*100)/(G26+F26) -> 100
A27: 21 | B27: โพธิ์ศรีสุวรรณ | C27: =SUM(Qreportintime!C274:C282) -> 0 | D27: =[1]Qreportintime!D305 -> 363 | E27: =(D27*100)/(D27+C27) -> 100 | F27: =SUM(Qreportintime!F274:F282) -> 0 | G27: =[1]Qreportintime!G305 -> 66 | H27: =(G27*100)/(G27+F27) -> 100
A28: 22 | B28: ศิลาลาด | C28: =SUM(Qreportintime!C283:C289) -> 0 | D28: =SUM(Qreportintime!D283:D289) -> 0 | E28: =(D28*100)/(D28+C28) -> #DIV/0! | F28: =SUM(Qreportintime!F283:F289) -> 0 | G28: =SUM(Qreportintime!G283:G289) -> 0 | H28: =(G28*100)/(G28+F28) -> #DIV/0!
A29: รวม | C29: =Qreportintime!C290 -> 7295 | D29: =Qreportintime!D290 -> 28546 | E29: =(D29*100)/(D29+C29) -> 79.646215 | F29: =Qreportintime!F290 -> 226 | G29: =Qreportintime!G290 -> 1414 | H29: =(G29*100)/(G29+F29) -> 86.219512

Sheet Qreportintime
A1: รหัสสถานพยาบาล | B1: ชื่อสถานพยาบาล | C1: ส่งไม่ทันเวลา | D1: ส่งทันเวลา | E1: ทันเวลาร้อยละ | F1: ส่งไม่ทันเวลา | G1: ส่งทันเวลา | H1: ทันเวลาร้อยละ
A2: 33999900 | B2: รพ.ศูนย์ | E2: =(D2*100)/(D2+C2) -> #VALUE!
A3: 33010100 | B3: ประชารักษ์ | E3: =(D3*100)/(D3+C3) -> #DIV/0! | H3: =(G3*100)/(G3+F3) -> #DIV/0!
A4: 33010101 | B4: ศูนย์2หนองอุทัย | E4: =(D4*100)/(D4+C4) -> #DIV/0! | H4: =(G4*100)/(G4+F4) -> #DIV/0!
A5: 33010120 | B5: ศรีสะเกษ | E5: =(D5*100)/(D5+C5) -> #DIV/0! | H5: =(G5*100)/(G5+F5) -> #DIV/0!
A6: 33010301 | B6: คูซอด | C6: 3 | D6: 4 | E6: =(D6*100)/(D6+C6) -> 57.142857 | F6: 3 | G6: 4 | H6: =(G6*100)/(G6+F6) -> 57.142857
A7: 33010401 | B7: แทง | C7: 2 | E7: =(D7*100)/(D7+C7) -> 0 | F7: 2 | H7: =(G7*100)/(G7+F7) -> 0
A8: 33010501 | B8: จาน | E8: =(D8*100)/(D8+C8) -> #DIV/0! | H8: =(G8*100)/(G8+F8) -> #DIV/0!
A9: 33010601 | B9: ตะดอบ | D9: 3 | E9: =(D9*100)/(D9+C9) -> 100 | G9: 3 | H9: =(G9*100)/(G9+F9) -> 100
A10: 33010701 | B10: หนองครก | E10: =(D10*100)/(D10+C10) -> #DIV/0! | H10: =(G10*100)/(G10+F10) -> #DIV/0!
A11: 33010702 | B11: ศูนย์3น้ำคำ | E11: =(D11*100)/(D11+C11) -> #DIV/0! | H11: =(G11*100)/(G11+F11) -> #DIV/0!
A12: 33010703 | B12: ศูนย์4มารีหนองแค | E12: =(D12*100)/(D12+C12) -> #DIV/0! | H12: =(G12*100)/(G12+F12) -> #DIV/0!
A13: 33011101 | B13: กุดโง้ง | E13: =(D13*100)/(D13+C13) -> #DIV/0! | H13: =(G13*100)/(G13+F13) -> #DIV/0!
A14: 33011201 | B14: โพนค้อ | D14: 3 | E14: =(D14*100)/(D14+C14) -> 100 | G14: 3 | H14: =(G14*100)/(G14+F14) -> 100
A15: 33011501 | B15: กอก | C15: 1 | D15: 3 | E15: =(D15*100)/(D15+C15) -> 75 | F15: 1 | G15: 3 | H15: =(G15*100)/(G15+F15) -> 75
A16: 33011601 | B16: สร้างเรือง | D16: 1 | E16: =(D16*100)/(D16+C16) -> 100 | G16: 1 | H16: =(G16*100)/(G16+F16) -> 100
A17: 33011602 | B17: PCU5 โนนสำนัก | E17: =(D17*100)/(D17+C17) -> #DIV/0! | H17: =(G17*100)/(G17+F17) -> #DIV/0!
A18: 33011801 | B18: โนนแกด | C18: 2 | D18: 13 | E18: =(D18*100)/(D18+C18) -> 86.666667 | F18: 2 | G18: 13 | H18: =(G18*100)/(G18+F18) -> 86.666667
A19: 33011901 | B19: หนองไฮ | D19: 1 | E19: =(D19*100)/(D19+C19) -> 100 | G19: 1 | H19: =(G19*100)/(G19+F19) -> 100
A20: 33012101 | B20: หนองแก้ว | E20: =(D20*100)/(D20+C20) -> #DIV/0! | H20: =(G20*100)/(G20+F20) -> #DIV/0!
A21: 33012201 | B21: น้ำคำ | E21: =(D21*100)/(D21+C21) -> #DIV/0! | H21: =(G21*100)/(G21+F21) -> #DIV/0!
A22: 33012202 | B22: หนองโน | C22: 1 | E22: =(D22*100)/(D22+C22) -> 0 | F22: 1 | H22: =(G22*100)/(G22+F22) -> 0
A23: 33012301 | B23: โพธิ์ | D23: 3 | E23: =(D23*100)/(D23+C23) -> 100 | G23: 3 | H23: =(G23*100)/(G23+F23) -> 100
A24: 33012401 | B24: ก้านเหลือง | E24: =(D24*100)/(D24+C24) -> #DIV/0! | H24: =(G24*100)/(G24+F24) -> #DIV/0!
A25: 33012701 | B25: หนองไผ่ | E25: =(D25*100)/(D25+C25) -> #DIV/0! | H25: =(G25*100)/(G25+F25) -> #DIV/0!
A26: 33020100 | B26: ยางชุมน้อย | D26: 67 | E26: =(D26*100)/(D26+C26) -> 100 | G26: 67 | H26: =(G26*100)/(G26+F26) -> 100
A27: 33020201 | B27: ผักขะ | E27: =(D27*100)/(D27+C27) -> #DIV/0! | H27: =(G27*100)/(G27+F27) -> #DIV/0!
A28: 33020301 | B28: คอนกาม | D28: 3 | E28: =(D28*100)/(D28+C28) -> 100 | G28: 3 | H28: =(G28*100)/(G28+F28) -> 100
A29: 33020401 | B29: โนนคูณ | E29: =(D29*100)/(D29+C29) -> #DIV/0! | H29: =(G29*100)/(G29+F29) -> #DIV/0!
A30: 33020501 | B30: กุดเมืองฮาม | D30: 9 | E30: =(D30*100)/(D30+C30) -> 100 | G30: 9 | H30: =(G30*100)/(G30+F30) -> 100
A31: 33020601 | B31: จอมบึง | E31: =(D31*100)/(D31+C31) -> #DIV/0! | H31: =(G31*100)/(G31+F31) -> #DIV/0!
A32: 33020701 | B32: ยางชุมใหญ่ | E32: =(D32*100)/(D32+C32) -> #DIV/0! | H32: =(G32*100)/(G32+F32) -> #DIV/0!
A33: 33030100 | B33: กันทรารมย์ | C33: 32 | D33: 63 | E33: =(D33*100)/(D33+C33) -> 66.315789 | F33: 32 | G33: 63 | H33: =(G33*100)/(G33+F33) -> 66.315789
A34: 33030201 | B34: โนนสัง | E34: =(D34*100)/(D34+C34) -> #DIV/0! | H34: =(G34*100)/(G34+F34) -> #DIV/0!
A35: 33030301 | B35: หนองดุม | E35: =(D35*100)/(D35+C35) -> #DIV/0! | H35: =(G35*100)/(G35+F35) -> #DIV/0!
A36: 33030302 | B36: บกขี้ยาง | E36: =(D36*100)/(D36+C36) -> #DIV/0! | H36: =(G36*100)/(G36+F36) -> #DIV/0!
A37: 33030401 | B37: ยาง | E37: =(D37*100)/(D37+C37) -> #DIV/0! | H37: =(G37*100)/(G37+F37) -> #DIV/0!
A38: 33030501 | B38: หนองแวง | E38: =(D38*100)/(D38+C38) -> #DIV/0! | H38: =(G38*100)/(G38+F38) -> #DIV/0!
A39: 33030601 | B39: กอก | E39: =(D39*100)/(D39+C39) -> #DIV/0! | H39: =(G39*100)/(G39+F39) -> #DIV/0!
A40: 33030701 | B40: เจีย | E40: =(D40*100)/(D40+C40) -> #DIV/0! | H40: =(G40*100)/(G40+F40) -> #DIV/0!
A41: 33030702 | B41: ผึ้ง | E41: =(D41*100)/(D41+C41) -> #DIV/0! | H41: =(G41*100)/(G41+F41) -> #DIV/0!
A42: 33030801 | B42: ละทาย | E42: =(D42*100)/(D42+C42) -> #DIV/0! | H42: =(G42*100)/(G42+F42) -> #DIV/0!
A43: 33030901 | B43: เมืองน้อย | E43: =(D43*100)/(D43+C43) -> #DIV/0! | H43: =(G43*100)/(G43+F43) -> #DIV/0!
A44: 33031001 | B44: ทุ่งมั่ง | E44: =(D44*100)/(D44+C44) -> #DIV/0! | H44: =(G44*100)/(G44+F44) -> #DIV/0!
A45: 33031101 | B45: เทิน | E45: =(D45*100)/(D45+C45) -> #DIV/0! | H45: =(G45*100)/(G45+F45) -> #DIV/0!
... A50: 33032001 | B50: หนองทามน้อย | E50: =(D50*100)/(D50+C50) -> #DIV/0! | H50: =(G50*100)/(G50+F50) -> #DIV/0!
A51: 33040100 | B51: กันทร์ลักษ์ | D51: 71 | E51: =(D51*100)/(D51+C51) -> 100 | G51: 71 | H51: =(G51*100)/(G51+F51) -> 100
A52: 33040101 | B52: บึงมะลู | E52: =(D52*100)/(D52+C52) -> #DIV/0! | H52: =(G52*100)/(G52+F52) -> #DIV/0!
A53: 33040102 | B53: ตาแท่น | E53: =(D53*100)/(D53+C53) -> #DIV/0! | H53: =(G53*100)/(G53+F53) -> #DIV/0!
A54: 33040201 | B54: กุดเสลา | E54: =(D54*100)/(D54+C54) -> #DIV/0! | H54: =(G54*100)/(G54+F54) -> #DIV/0!
A55: 33040301 | B55: หนองเดียงน้อ | E55: =(D55*100)/(D55+C55) -> #DIV/0! | H55: =(G55*100)/(G55+F55) -> #DIV/0!
A56: 33040501 | B56: สังเม็ก | E56: =(D56*100)/(D56+C56) -> #DIV/0! | H56: =(G56*100)/(G56+F56) -> #DIV/0!
A57: 33040502 | B57: นากันตม | E57: =(D57*100)/(D57+C57) -> #DIV/0! | H57: =(G57*100)/(G57+F57) -> #DIV/0!
A58: 33040701 | B58: ละลาย | E58: =(D58*100)/(D58+C58) -> #DIV/0! | H58: =(G58*100)/(G58+F58) -> #DIV/0!
A59: 33040702 | B59: คำโปรย | E59: =(D59*100)/(D59+C59) -> #DIV/0! | H59: =(G59*100)/(G59+F59) -> #DIV/0!
A60: 33040703 | B60: โคกเจริญ | E60: =(D60*100)/(D60+C60) -> #DIV/0! | H60: =(G60*100)/(G60+F60) -> #DIV/0!
A61: 33040801 | B61: โดนเอาว์ | E61: =(D61*100)/(D61+C61) -> #DIV/0! | H61: =(G61*100)/(G61+F61) -> #DIV/0!
A62: 33040901 | B62: ม่วง | E62: =(D62*100)/(D62+C62) -> #DIV/0! | H62: =(G62*100)/(G62+F62) -> #DIV/0!
A63: 33041101 | B63: จานใหญ่ | E63: =(D63*100)/(D63+C63) -> #DIV/0! | H63: =(G63*100)/(G63+F63) -> #DIV/0!
... A87: 33042502 | B87: โศกขามป้อม | E87: =(D87*100)/(D87+C87) -> #DIV/0! | H87: =(G87*100)/(G87+F87) -> #DIV/0!
A88: 33050100 | B88: ขุขันธ์ | D88: 79 | E88: =(D88*100)/(D88+C88) -> 100 | G88: 79 | H88: =(G88*100)/(G88+F88) -> 100
A89: 33050101 | B89: โคกโพน | E89: =(D89*100)/(D89+C89) -> #DIV/0! | H89: =(G89*100)/(G89+F89) -> #DIV/0!
A90: 33050201 | B90: จะกง | D90: 1 | E90: =(D90*100)/(D90+C90) -> 100 | G90: 1 | H90: =(G90*100)/(G90+F90) -> 100
A91: 33050301 | B91: ใจดี | E91: =(D91*100)/(D91+C91) -> #DIV/0! | H91: =(G91*100)/(G91+F91) -> #DIV/0!
A92: 33050401 | B92: กันจาน | E92: =(D92*100)/(D92+C92) -> #DIV/0! | H92: =(G92*100)/(G92+F92) -> #DIV/0!
A93: 33050501 | B93: อาวอย | E93: =(D93*100)/(D93+C93) -> #DIV/0! | H93: =(G93*100)/(G93+F93) -> #DIV/0!
A94: 33050502 | B94: ขนุน | D94: 1 | E94: =(D94*100)/(D94+C94) -> 100 | G94: 1 | H94: =(G94*100)/(G94+F94) -> 100
A95: 33050503 | B95: หนองคล้า | C95: 1 | E95: =(D95*100)/(D95+C95) -> 0 | F95: 1 | H95: =(G95*100)/(G95+F95) -> 0
A96: 33050601 | B96: ปรือใหญ่ | D96: 6 | E96: =(D96*100)/(D96+C96) -> 100 | G96: 6 | H96: =(G96*100)/(G96+F96) -> 100
A97: 33050602 | B97: ปรือคัน | D97: 1 | E97: =(D97*100)/(D97+C97) -> 100 | G97: 1 | H97: =(G97*100)/(G97+F97) -> 100
A98: 33050603 | B98: ทับทิมสยาม06 | E98: =(D98*100)/(D98+C98) -> #DIV/0! | H98: =(G98*100)/(G98+F98) -> #DIV/0!
A99: 33050701 | B99: หนองลุง | D99: 2 | E99: =(D99*100)/(D99+C99) -> 100 | G99: 2 | H99: =(G99*100)/(G99+F99) -> 100
A100: 33050801 | B100: คลองกลาง | E100: =(D100*100)/(D100+C100) -> #DIV/0! | H100: =(G100*100)/(G100+F100) -> #DIV/0!
A101: 33051001 | B101: สมบูรณ์ | E101: =(D101*100)/(D101+C101) -> #DIV/0! | H101: =(G101*100)/(G101+F101) -> #DIV/0!
A102: 33051101 | B102: หัวเสือ | D102: 7 | E102: =(D102*100)/(D102+C102) -> 100 | G102: 7 | H102: =(G102*100)/(G102+F102) -> 100
A103: 33051301 | B103: ตะเคียน | C103: 3 | E103: =(D103*100)/(D103+C103) -> 0 | F103: 3 | H103: =(G103*100)/(G103+F103) -> 0
A104: 33051501 | B104: กวางขาว | D104: 2 | E104: =(D104*100)/(D104+C104) -> 100 | G104: 2 | H104: =(G104*100)/(G104+F104) -> 100
A105: 33051701 | B105: โคกเพชร | D105: 17 | E105: =(D105*100)/(D105+C105) -> 100 | G105: 17 | H105: =(G105*100)/(G105+F105) -> 100
A106: 33051801 | B106: ปราสาท | E106: =(D106*100)/(D106+C106) -> #DIV/0! | H106: =(G106*100)/(G106+F106) -> #DIV/0!
A107: 33051802 | B107: บ่อทอง | E107: =(D107*100)/(D107+C107) -> #DIV/0! | H107: =(G107*100)/(G107+F107) -> #DIV/0!
A108: 33052101 | B108: สำโรงตาเจ็น | D108: 4 | E108: =(D108*100)/(D108+C108) -> 100 | G108: 4 | H108: =(G108*100)/(G108+F108) -> 100
A109: 33052201 | B109: นาก๊อก | E109: =(D109*100)/(D109+C109) -> #DIV/0! | H109: =(G109*100)/(G109+F109) -> #DIV/0!
A110: 33052401 | B110: กฤษณา | E110: =(D110*100)/(D110+C110) -> #DIV/0! | H110: =(G110*100)/(G110+F110) -> #DIV/0!
A111: 33052501 | B111: วิทย์ | E111: =(D111*100)/(D111+C111) -> #DIV/0! | H111: =(G111*100)/(G111+F111) -> #DIV/0!
A112: 33052601 | B112: ตรอย | D112: 2 | E112: =(D112*100)/(D112+C112) -> 100 | G112: 2 | H112: =(G112*100)/(G112+F112) -> 100
A113: 33052602 | B113: นิคมพัฒนา | E113: =(D113*100)/(D113+C113) -> #DIV/0! | H113: =(G113*100)/(G113+F113) -> #DIV/0!
A114: 33052701 | B114: โนน | E114: =(D114*100)/(D114+C114) -> #DIV/0! | H114: =(G114*100)/(G114+F114) -> #DIV/0!
A115: 33052801 | B115: ตะเคียนบังอิ | D115: 1 | E115: =(D115*100)/(D115+C115) -> 100 | G115: 1 | H115: =(G115*100)/(G115+F115) -> 100
A116: 33060100 | B116: ไพรบึง | D116: 40 | E116: =(D116*100)/(D116+C116) -> 100 | G116: 40 | H116: =(G116*100)/(G116+F116) -> 100
A117: 33060101 | B117: ทุ่ม | D117: 4 | E117: =(D117*100)/(D117+C117) -> 100 | G117: 4 | H117: =(G117*100)/(G117+F117) -> 100
A118: 33060201 | B118: หนองอารี | D118: 4 | E118: =(D118*100)/(D118+C118) -> 100 | G118: 4 | H118: =(G118*100)/(G118+F118) -> 100
A119: 33060301 | B119: ปราสาทเยอร์ | D119: 3 | E119: =(D119*100)/(D119+C119) -> 100 | G119: 3 | H119: =(G119*100)/(G119+F119) -> 100
A120: 33060401 | B120: ไม้แก่น | E120: =(D120*100)/(D120+C120) -> #DIV/0! | H120: =(G120*100)/(G120+F120) -> #DIV/0!
A121: 33060402 | B121: ตาโมกข์ | D121: 2 | E121: =(D121*100)/(D121+C121) -> 100 | G121: 2 | H121: =(G121*100)/(G121+F121) -> 100
A122: 33060501 | B122: พะแวะ | D122: 1 | E122: =(D122*100)/(D122+C122) -> 100 | G122: 1 | H122: =(G122*100)/(G122+F122) -> 100
A123: 33060601 | B123: กันตรวจ | C123: 3 | D123: 4 | E123: =(D123*100)/(D123+C123) -> 57.142857 | F123: 3 | G123: 4 | H123: =(G123*100)/(G123+F123) -> 57.142857
A124: 33070100 | B124: ปรางค์กู่ | D124: 83 | E124: =(D124*100)/(D124+C124) -> 100 | G124: 83 | H124: =(G124*100)/(G124+F124) -> 100
A125: 33070201 | B125: กู่ | E125: =(D125*100)/(D125+C125) -> #DIV/0! | H125: =(G125*100)/(G125+F125) -> #DIV/0!
A126: 33070202 | B126: กะดึ | E126: =(D126*100)/(D126+C126) -> #DIV/0! | H126: =(G126*100)/(G126+F126) -> #DIV/0!
A127: 33070301 | B127: หนองเชียงทูน | D127: 1 | E127: =(D127*100)/(D127+C127) -> 100 | G127: 1 | H127: =(G127*100)/(G127+F127) -> 100
...

Sheet Topten_DS
B1: เรียงลำดับโรคตามอัตราป่วย
B2: มกราคม ถึง 15 มกราคม ๒๕๖๕
A4: ลำดับที่ | B4: รหัสโรค | C4: ชื่อโรค | D4: จำนวนป่วย | E4: อัตราป่วย | F4: ตาย | G4: อัตราตาย | H4: อัตราป่วยตาย | I4: ประชากร
A5: 1 | B5: 02 | C5: Diarrhoea | D5: 849 | E5: 57.637044 | F5: 0 | G5: 0 | H5: 0 | I5: 1476918
A6: 2 | B6: 18 | C6: Pyrexia | D6: 298 | E6: 20.23067 | F6: 0 | G6: 0 | H6: 0 | I6: 1476918
A7: 3 | B7: 31 | C7: Pneumonia | D7: 193 | E7: 13.102414 | F7: 0 | G7: 0 | H7: 0 | I7: 1476918
A8: 4 | B8: 03 | C8: Food Poisoning | D8: 166 | E8: 11.269434 | F8: 0 | G8: 0 | H8: 0 | I8: 1476918
A9: 5 | B9: 14 | C9: H.conjunctivitis | D9: 73 | E9: 4.9558354 | F9: 0 | G9: 0 | H9: 0 | I9: 1476918
A10: 6 | B10: 37 | C10: S.T.D.,total(37-41,79-81,88-89) | D10: 20 | E10: 1.3577631 | F10: 0 | G10: 0 | H10: 0 | I10: 1476918
A11: 7 | B11: 72 | C11: Melioidosis | D11: 14 | E11: 0.95043418 | F11: 0 | G11: 0 | H11: 0 | I11: 1473011
A12: 8 | B12: 17 | C12: Chickenpox | D12: 13 | E12: 0.88254602 | F12: 0 | G12: 0 | H12: 0 | I12: 1476918
A13: 9 | B13: 37 | C13: Syphilis | D13: 10 | E13: 0.67888156 | F13: 0 | G13: 0 | H13: 0 | I13: 1476918
A14: 10 | B14: 04 | C14: Dysentery (04,05,06) | D14: 9 | E14: 0.6109934 | F14: 0 | G14: 0 | H14: 0 | I14: 1476918

Sheet รพ.สต.ที่ไม่มีรายงาน
A1: PRO_CODE | B1: HOSP_CODE | C1: HOSP_NAME | D1: C
A2: 33 | B2: 33010100 | C2: ประชารักษ์ | D2: 0
A3: 33 | B3: 33010101 | C3: ศูนย์2หนองอุทัย | D3: 0
A4: 33 | B4: 33010120 | C4: ศรีสะเกษ | D4: 0
A5: 33 | B5: 33010501 | C5: จาน | D5: 0
A6: 33 | B6: 33010701 | C6: หนองครก | D6: 0
A7: 33 | B7: 33010702 | C7: ศูนย์3น้ำคำ | D7: 0
A8: 33 | B8: 33010703 | C8: ศูนย์4มารีหนองแค | D8: 0
A9: 33 | B9: 33011101 | C9: กุดโง้ง | D9: 0
A10: 33 | B10: 33011602 | C10: PCU5 โนนสำนัก | D10: 0
A11: 33 | B11: 33012101 | C11: หนองแก้ว | D11: 0
A12: 33 | B12: 33012201 | C12: น้ำคำ | D12: 0
A13: 33 | B13: 33012401 | C13: ก้านเหลือง | D13: 0
... A153: 33 | B153: 33999900 | C153: ต่างจังหวัดศูนย์ | D153: 0

Sheet รพสต.ความครอบคลุม
A1: hserv | B1: Hname | C1: Wk1 | D1: Wk2 | E1: Wk3 | F1: Wk4 | G1: Wk5 | H1: Wk6 | I1: Wk7 | J1: Wk8 | K1: Wk9 | L1: Wk10 | M1: Wk11 | N1: Wk12 | O1: Wk13 | P1: Wk14 | Q1: Wk15 | R1: Wk16 | S1: Wk17 | T1: Wk18 | U1: Wk19 | V1: Wk20 | W1: Wk21 | X1: Wk22 | Y1: Wk23 | Z1: Wk24 | AA1: Wk25 | AB1: Wk26 | AC1: Wk27 | AD1: Wk28 | AE1: Wk29 | AF1: Wk30 | AG1: Wk31 | AH1: Wk32 | AI1: Wk33 | AJ1: Wk34 | AK1: Wk35 | AL1: Wk36 | AM1: Wk37 | AN1: Wk38 | AO1: Wk39 | AP1: Wk40 | AQ1: Wk41 | AR1: Wk42 | AS1: Wk43 | AT1: Wk44 | AU1: Wk45 | AV1: Wk46 | AW1: Wk47 | AX1: Wk48 | AY1: Wk49 | AZ1: Wk50 | BA1: Wk51 | BB1: Wk52 | BC1: Wk53
A2: 33010301 | B2: คูซอด | C2: 4 | D2: 2 | E2: 0 | F2: 0 | G2: 0 | H2: 0 | I2: 0 | J2: 0 | K2: 0 | L2: 0 | M2: 0 | N2: 0 | O2: 0 | P2: 0 | Q2: 0 | R2: 0 | S2: 0 | T2: 0 | U2: 0 | V2: 0 | W2: 0 | X2: 0 | Y2: 0 | Z2: 0 | AA2: 0 | AB2: 0 | AC2: 0 | AD2: 0 | AE2: 0 | AF2: 0 | AG2: 0 | AH2: 0 | AI2: 0 | AJ2: 0 | AK2: 0 | AL2: 0 | AM2: 0 | AN2: 0 | AO2: 0 | AP2: 0 | AQ2: 0 | AR2: 0 | AS2: 0 | AT2: 0 | AU2: 0 | AV2: 0 | AW2: 0 | AX2: 0 | AY2: 0 | AZ2: 0 | BA2: 0 | BB2: 0 | BC2: 0
A3: 33010401 | B3: แทง | C3: 2 | D3: 0 | E3: 0 | F3: 0 | G3: 0 | H3: 0 | I3: 0 | J3: 0 | K3: 0 | L3: 0 | M3: 0 | N3: 0 | O3: 0 | P3: 0 | Q3: 0 | R3: 0 | S3: 0 | T3: 0 | U3: 0 | V3: 0 | W3: 0 | X3: 0 | Y3: 0 | Z3: 0 | AA3: 0 | AB3: 0 | AC3: 0 | AD3: 0 | AE3: 0 | AF3: 0 | AG3: 0 | AH3: 0 | AI3: 0 | AJ3: 0 | AK3: 0 | AL3: 0 | AM3: 0 | AN3: 0 | AO3: 0 | AP3: 0 | AQ3: 0 | AR3: 0 | AS3: 0 | AT3: 0 | AU3: 0 | AV3: 0 | AW3: 0 | AX3: 0 | AY3: 0 | AZ3: 0 | BA3: 0 | BB3: 0 | BC3: 0
A4: 33010601 | B4: ตะดอบ | C4: 2 | D4: 1 | E4: 0 | F4: 0 | G4: 0 | H4: 0 | I4: 0 | J4: 0 | K4: 0 | L4: 0 | M4: 0 | N4: 0 | O4: 0 | P4: 0 | Q4: 0 | R4: 0 | S4: 0 | T4: 0 | U4: 0 | V4: 0 | W4: 0 | X4: 0 | Y4: 0 | Z4: 0 | AA4: 0 | AB4: 0 | AC4: 0 | AD4: 0 | AE4: 0 | AF4: 0 | AG4: 0 | AH4: 0 | AI4: 0 | AJ4: 0 | AK4: 0 | AL4: 0 | AM4: 0 | AN4: 0 | AO4: 0 | AP4: 0 | AQ4: 0 | AR4: 0 | AS4: 0 | AT4: 0 | AU4: 0 | AV4: 0 | AW4: 0 | AX4: 0 | AY4: 0 | AZ4: 0 | BA4: 0 | BB4: 0 | BC4: 0
A5: 33011201 | B5: โพนค้อ | C5: 0 | D5: 1 | E5: 0 | F5: 0 | G5: 0 | H5: 0 | I5: 0 | J5: 0 | K5: 0 | L5: 0 | M5: 0 | N5: 0 | O5: 0 | P5: 0 | Q5: 0 | R5: 0 | S5: 0 | T5: 0 | U5: 0 | V5: 0 | W5: 0 | X5: 0 | Y5: 0 | Z5: 0 | AA5: 0 | AB5: 0 | AC5: 0 | AD5: 0 | AE5: 0 | AF5: 0 | AG5: 0 | AH5: 0 | AI5: 0 | AJ5: 0 | AK5: 0 | AL5: 0 | AM5: 0 | AN5: 0 | AO5: 0 | AP5: 0 | AQ5: 0 | AR5: 0 | AS5: 0 | AT5: 0 | AU5: 0 | AV5: 0 | AW5: 0 | AX5: 0 | AY5: 0 | AZ5: 0 | BA5: 0 | BB5: 0 | BC5: 0
A6: 33011501 | B6: กอก | C6: 2 | D6: 2 | E6: 0 | F6: 0 | G6: 0 | H6: 0 | I6: 0 | J6: 0 | K6: 0 | L6: 0 | M6: 0 | N6: 0 | O6: 0 | P6: 0 | Q6: 0 | R6: 0 | S6: 0 | T6: 0 | U6: 0 | V6: 0 | W6: 0 | X6: 0 | Y6: 0 | Z6: 0 | AA6: 0 | AB6: 0 | AC6: 0 | AD6: 0 | AE6: 0 | AF6: 0 | AG6: 0 | AH6: 0 | AI6: 0 | AJ6: 0 | AK6: 0 | AL6: 0 | AM6: 0 | AN6: 0 | AO6: 0 | AP6: 0 | AQ6: 0 | AR6: 0 | AS6: 0 | AT6: 0 | AU6: 0 | AV6: 0 | AW6: 0 | AX6: 0 | AY6: 0 | AZ6: 0 | BA6: 0 | BB6: 0 | BC6: 0
A7: 33011601 | B7: สร้างเรือง | C7: 1 | D7: 0 | E7: 0 | F7: 0 | G7: 0 | H7: 0 | I7: 0 | J7: 0 | K7: 0 | L7: 0 | M7: 0 | N7: 0 | O7: 0 | P7: 0 | Q7: 0 | R7: 0 | S7: 0 | T7: 0 | U7: 0 | V7: 0 | W7: 0 | X7: 0 | Y7: 0 | Z7: 0 | AA7: 0 | AB7: 0 | AC7: 0 | AD7: 0 | AE7: 0 | AF7: 0 | AG7: 0 | AH7: 0 | AI7: 0 | AJ7: 0 | AK7: 0 | AL7: 0 | AM7: 0 | AN7: 0 | AO7: 0 | AP7: 0 | AQ7: 0 | AR7: 0 | AS7: 0 | AT7: 0 | AU7: 0 | AV7: 0 | AW7: 0 | AX7: 0 | AY7: 0 | AZ7: 0 | BA7: 0 | BB7: 0 | BC7: 0
A8: 33011801 | B8: โนนแกด | C8: 11 | D8: 3 | E8: 0 | F8: 0 | G8: 0 | H8: 0 | I8: 0 | J8: 0 | K8: 0 | L8: 0 | M8: 0 | N8: 0 | O8: 0 | P8: 0 | Q8: 0 | R8: 0 | S8: 0 | T8: 0 | U8: 0 | V8: 0 | W8: 0 | X8: 0 | Y8: 0 | Z8: 0 | AA8: 0 | AB8: 0 | AC8: 0 | AD8: 0 | AE8: 0 | AF8: 0 | AG8: 0 | AH8: 0 | AI8: 0 | AJ8: 0 | AK8: 0 | AL8: 0 | AM8: 0 | AN8: 0 | AO8: 0 | AP8: 0 | AQ8: 0 | AR8: 0 | AS8: 0 | AT8: 0 | AU8: 0 | AV8: 0 | AW8: 0 | AX8: 0 | AY8: 0 | AZ8: 0 | BA8: 0 | BB8: 0 | BC8: 0
A9: 33011901 | B9: หนองไฮ | C9: 0 | D9: 1 | E9: 0 | F9: 0 | G9: 0 | H9: 0 | I9: 0 | J9: 0 | K9: 0 | L9: 0 | M9: 0 | N9: 0 | O9: 0 | P9: 0 | Q9: 0 | R9: 0 | S9: 0 | T9: 0 | U9: 0 | V9: 0 | W9: 0 | X9: 0 | Y9: 0 | Z9: 0 | AA9: 0 | AB9: 0 | AC9: 0 | AD9: 0 | AE9: 0 | AF9: 0 | AG9: 0 | AH9: 0 | AI9: 0 | AJ9: 0 | AK9: 0 | AL9: 0 | AM9: 0 | AN9: 0 | AO9: 0 | AP9: 0 | AQ9: 0 | AR9: 0 | AS9: 0 | AT9: 0 | AU9: 0 | AV9: 0 | AW9: 0 | AX9: 0 | AY9: 0 | AZ9: 0 | BA9: 0 | BB9: 0 | BC9: 0
A10: 33012202 | B10: หนองโน | C10: 1 | D10: 0 | E10: 0 | F10: 0 | G10: 0 | H10: 0 | I10: 0 | J10: 0 | K10: 0 | L10: 0 | M10: 0 | N10: 0 | O10: 0 | P10: 0 | Q10: 0 | R10: 0 | S10: 0 | T10: 0 | U10: 0 | V10: 0 | W10: 0 | X10: 0 | Y10: 0 | Z10: 0 | AA10: 0 | AB10: 0 | AC10: 0 | AD10: 0 | AE10: 0 | AF10: 0 | AG10: 0 | AH10: 0 | AI10: 0 | AJ10: 0 | AK10: 0 | AL10: 0 | AM10: 0 | AN10: 0 | AO10: 0 | AP10: 0 | AQ10: 0 | AR10: 0 | AS10: 0 | AT10: 0 | AU10: 0 | AV10: 0 | AW10: 0 | AX10: 0 | AY10: 0 | AZ10: 0 | BA10: 0 | BB10: 0 | BC10: 0
A11: 33012301 | B11: โพธิ์ | C11: 1 | D11: 2 | E11: 0 | F11: 0 | G11: 0 | H11: 0 | I11: 0 | J11: 0 | K11: 0 | L11: 0 | M11: 0 | N11: 0 | O11: 0 | P11: 0 | Q11: 0 | R11: 0 | S11: 0 | T11: 0 | U11: 0 | V11: 0 | W11: 0 | X11: 0 | Y11: 0 | Z11: 0 | AA11: 0 | AB11: 0 | AC11: 0 | AD11: 0 | AE11: 0 | AF11: 0 | AG11: 0 | AH11: 0 | AI11: 0 | AJ11: 0 | AK11: 0 | AL11: 0 | AM11: 0 | AN11: 0 | AO11: 0 | AP11: 0 | AQ11: 0 | AR11: 0 | AS11: 0 | AT11: 0 | AU11: 0 | AV11: 0 | AW11: 0 | AX11: 0 | AY11: 0 | AZ11: 0 | BA11: 0 | BB11: 0 | BC11: 0
A12: 33020100 | B12: ยางชุมน้อย | C12: 33 | D12: 28 | E12: 0 | F12: 0 | G12: 0 | H12: 0 | I12: 0 | J12: 0 | K12: 0 | L12: 0 | M12: 0 | N12: 0 | O12: 0 | P12: 0 | Q12: 0 | R12: 0 | S12: 0 | T12: 0 | U12: 0 | V12: 0 | W12: 0 | X12: 0 | Y12: 0 | Z12: 0 | AA12: 0 | AB12: 0 | AC12: 0 | AD12: 0 | AE12: 0 | AF12: 0 | AG12: 0 | AH12: 0 | AI12: 0 | AJ12: 0 | AK12: 0 | AL12: 0 | AM12: 0 | AN12: 0 | AO12: 0 | AP12: 0 | AQ12: 0 | AR12: 0 | AS12: 0 | AT12: 0 | AU12: 0 | AV12: 0 | AW12: 0 | AX12: 0 | AY12: 0 | AZ12: 0 | BA12: 0 | BB12: 0 | BC12: 0
A13: 33020301 | B13: คอนกาม | C13: 2 | D13: 0 | E13: 0 | F13: 0 | G13: 0 | H13: 0 | I13: 0 | J13: 0 | K13: 0 | L13: 0 | M13: 0 | N13: 0 | O13: 0 | P13: 0 | Q13: 0 | R13: 0 | S13: 0 | T13: 0 | U13: 0 | V13: 0 | W13: 0 | X13: 0 | Y13: 0 | Z13: 0 | AA13: 0 | AB13: 0 | AC13: 0 | AD13: 0 | AE13: 0 | AF13: 0 | AG13: 0 | AH13: 0 | AI13: 0 | AJ13: 0 | AK13: 0 | AL13: 0 | AM13: 0 | AN13: 0 | AO13: 0 | AP13: 0 | AQ13: 0 | AR13: 0 | AS13: 0 | AT13: 0 | AU13: 0 | AV13: 0 | AW13: 0 | AX13: 0 | AY13: 0 | AZ13: 0 | BA13: 0 | BB13: 0 | BC13: 0
... A137: 33210501 | B137: อีเซ | C137: 2 | D137: 3 | E137: 0 | F137: 0 | G137: 0 | H137: 0 | I137: 0 | J137: 0 | K137: 0 | L137: 0 | M137: 0 | N137: 0 | O137: 0 | P137: 0 | Q137: 0 | R137: 0 | S137: 0 | T137: 0 | U137: 0 | V137: 0 | W137: 0 | X137: 0 | Y137: 0 | Z137: 0 | AA137: 0 | AB137: 0 | AC137: 0 | AD137: 0 | AE137: 0 | AF137: 0 | AG137: 0 | AH137: 0 | AI137: 0 | AJ137: 0 | AK137: 0 | AL137: 0 | AM137: 0 | AN137: 0 | AO137: 0 | AP137: 0 | AQ137: 0 | AR137: 0 | AS137: 0 | AT137: 0 | AU137: 0 | AV137: 0 | AW137: 0 | AX137: 0 | AY137: 0 | AZ137: 0 | BA137: 0 | BB137: 0 | BC137: 0
